
BEGIN:VCALENDAR
VERSION:2.0
PRODID:-//Hare Krišna - Skupnost za zavest Krišne - uradna stran - ECPv6.15.20//NONSGML v1.0//EN
CALSCALE:GREGORIAN
METHOD:PUBLISH
X-WR-CALNAME:Hare Krišna - Skupnost za zavest Krišne - uradna stran
X-ORIGINAL-URL:https://www.harekrisna.net
X-WR-CALDESC:Dogodki za Hare Krišna - Skupnost za zavest Krišne - uradna stran
REFRESH-INTERVAL;VALUE=DURATION:PT1H
X-Robots-Tag:noindex
X-PUBLISHED-TTL:PT1H
BEGIN:VTIMEZONE
TZID:UTC
BEGIN:STANDARD
TZOFFSETFROM:+0000
TZOFFSETTO:+0000
TZNAME:UTC
DTSTART:20250101T000000
END:STANDARD
END:VTIMEZONE
BEGIN:VEVENT
DTSTART;TZID=UTC:20260430T160000
DTEND;TZID=UTC:20260503T200000
DTSTAMP:20260423T144659
CREATED:20260423T110349Z
LAST-MODIFIED:20260423T112003Z
UID:9127-1777564800-1777838400@www.harekrisna.net
SUMMARY:Postani menih za 4 dni
DESCRIPTION:Ste se že kdaj spraševali\, kakšno je življenje v templju?\nAli pa si zaželeli\, da bi nekaj dni posvetili izključno poglabljanju svoje duhovne vadbe? \nZdaj imate priložnost. Gospod Vamanadev je Balija Maharaja prosil za tri korake zemlje\, mi pa vas prosimo za le štiri dni vašega dragocenega časa. \nSte pripravljeni na izziv? \n  \nCiljna skupina: Bhakte začetniki\, ki si želijo izkusiti tempeljsko življenje in služiti v družbi izkušenih bhakt. Ta dogodek je namenjen samo moškim. Osnovna pravila: Od udeležencev programa pričakujemo\, da bodo sledili pravilom\, ki so v ločenem dokumentu. \nJezik: Razprave in splošna komunikacija bodo potekale v angleščini. \nEkipa: Mukunda Madhava dasa – koordinator \nKdaj? Od četrtka\, 30.04\, do nedelje\, 03.05. \nKje? V ISKCON-u Ljubljana\, Nava Yoga Pith. \nKje naj se prijavim? Na telefonski številki +38669648877 (Mukunda Madhava dasa) \n\nURNIK  \nČetrtek\, 30.04\n16:00 – 20:00 Festival Nrisimha Caturdashi\nDnevni izziv: pojdi spat pred 21:00. \nPetek\, 01.05\n5:00 – 9:00 Jutranji program.\n9:00 – 10:00 Zajtrk.\n10:00 – 11:00 Osebno služenje (primer: rezanje zelenjave).\n13:30 Kosilo.\n14:30 – 19:00 Harinam v Bledu (vključno s prevozom)\nDnevni izziv: mantraj vsaj šestnajst krogov. \nSobota\, 02.05\n5:00 – 9:00 Jutranji program.\n9:00 – 10:00 Zajtrk.\n10:00 – 13:30 Harinam v Kopru(vključno s prevozom)\n13:30 Kosilo.\n16:00 – 19:00 Harinam v Izoli (vključno s prevozom)\nDnevni izziv: mantraj vsaj šestnajst krogov. \nNedelja\, 03.05\n5:00 – 9:00 Jutranji program.\n9:00 – 10:00 Zajtrk.\n10:00 – 12:00 Osebno služenje (primer: rezanje zelenjave).\n12:00 – 15:00 Razprave\, japa in branje\n15:00 – 20:00 Nedeljsko srečanje\, ki vključuje služenje drugim\, na primer strežbo hrane\, pomivanje…\nDnevni izziv: berite knjige Srile Prabhupade 1 uro.
URL:https://www.harekrisna.net/dogodek/postani-menih-2/
LOCATION:Dvorana – Center Hare Krišna v Ljubljani\, Žibertova 27\, Ljubljana\, 1000\, Slovenia
CATEGORIES:SEMINARJI - TEČAJI
ATTACH;FMTTYPE=image/jpeg:https://www.harekrisna.net/wp-content/uploads/2026/04/menih.jpeg
END:VEVENT
END:VCALENDAR